BEGIN:VCALENDAR
VERSION:2.0
PRODID:icalendar-ruby
CALSCALE:GREGORIAN
METHOD:PUBLISH
BEGIN:VEVENT
DTSTAMP:20260422T082456Z
UID:64-753570@walkertonchurch.com
DTSTART:20260921T140000Z
DTEND:20260921T153000Z
CLASS:PUBLIC
CREATED:20260421T211034
DESCRIPTION:Gather together with others at Walkerton Pentecostal Church eac
 h Monday morning from 10-11:30am to journey through different books in the
  Bible. We'll read\, ask questions\, share stories\, and pray with one ano
 ther as we meet each week. All are welcome to join!
LAST-MODIFIED:20260421T211034
LOCATION:Walkerton Pentecostal Church
SUMMARY:Walk through the Word
URL;VALUE=URI:https://walkertonchurch.com/events/walk-through-the-word--64/
 2026-09-21
ATTACH;FILENAME=FKoam.jpg;FMTTYPE=image/jpeg:https://dq5pwpg1q8ru0.cloudfro
 nt.net/2025/09/19/13/23/32/2ac2c997-98c5-435d-a8bd-96d8344cf2d9/FKoam.jpg
ATTACH;FILENAME="ChatGPT Image Oct 15, 2025, 02_51_40 PM.png";FMTTYPE=image
 /png:https://dq5pwpg1q8ru0.cloudfront.net/2025/10/15/18/59/32/9a73f906-d63
 e-4244-9ee0-0299d7c7c6f2/ChatGPT%20Image%20Oct%2015,%202025,%2002_51_40%20
 PM.png
END:VEVENT
END:VCALENDAR
